BEGIN:VCALENDAR
VERSION:2.0
PRODID:-//wp-events-plugin.com//7.2.3.1//EN
BEGIN:VEVENT
UID:15@cornisharchaeology.org.uk
DTSTART:20230216T190000Z
DTEND:20230216T200000Z
DTSTAMP:20230216T184854Z
URL:https://cornisharchaeology.org.uk/events/joint-cas-prehistoric-society
 -lecture-hunting-and-gathering-time-with-chantelle-conneller/
SUMMARY:Joint CAS/Prehistoric Society Lecture – Hunting and Gathering Tim
 e with Chantal Conneller
DESCRIPTION:The Mesolithic has often been treated as a period without histo
 ry\, where the only significant change is from an early Mesolithic charact
 erised by highly mobile big game hunters to more sedentary marine-focused 
 late Mesolithic. This presentation presents the results of a new British A
 cademy funded project which has aimed\, by contrast. to understand tempora
 l change over this period on a centennial scale and produce an historical 
 narrative of the Mesolithic inhabitation of Britain.\n
CATEGORIES:Talks
END:VEVENT
END:VCALENDAR